BEGIN:VCALENDAR
VERSION:2.0
PRODID:-//Squarespace Inc/Squarespace 6//v6//EN
BEGIN:VEVENT
UID:5939aa823a04112efc2f0e78@squarespace.com
DTSTAMP:20170608T195724Z
DTSTART:20170805T233000Z
DTEND:20170806T010000Z
SUMMARY:Acoustic Show at the Saarlouiser Inselgarten
END:VEVENT
END:VCALENDAR
