BEGIN:VCALENDAR
VERSION:2.0
PRODID:-//Squarespace Inc/Squarespace 6//v6//EN
BEGIN:VEVENT
UID:5939a8e53a04112efc2ef166@squarespace.com
DTSTAMP:20170608T194911Z
DTSTART:20170622T233000Z
DTEND:20170623T010000Z
SUMMARY:Eve of National Holiday Show
END:VEVENT
END:VCALENDAR
